Workbook

Sheet Таблица
A1: Наименование показателей | B1: № строки | C1: Всего | D1: в том числе используемых в учебных целях | CB1: 86493
D2: всего | E2: из них доступных для использования обучающимися в свободное от основных занятий время | CB2: 86494
A3: 1 | B3: 2 | C3: 3 | D3: 4 | E3: 5 | CB3: 86495
A4: Персональные компьютеры – всего | B4: 01 | C4: 282 | D4: 189 | E4: 108 | CB4: 86496
A5: из них ноутбуки и другие портативные персональные компьютеры (кроме планшетных) | B5: 02 | C5: 30 | D5: 30 | E5: 18 | CB5: 86497
A6: планшетные компьютеры | B6: 03 | C6: 26 | D6: 26 | E6: 15 | CB6: 86498
A7: находящиеся в составе локальных вычислительных сетей | B7: 04 | C7: 282 | D7: 189 | E7: 108 | CB7: 86499
A8: имеющие доступ к Интернету | B8: 05 | C8: 282 | D8: 189 | E8: 108 | CB8: 86500
A9: имеющие доступ к Интранет-порталу организации | B9: 06 | C9: 282 | D9: 189 | E9: 108 | CB9: 86501
A10: поступившие в отчетном году | B10: 07 | C10: 21 | D10: 21 | E10: 21 | CB10: 86502
A11: Электронные терминалы (инфоматы) | B11: 08 | C11: 3 | D11: X | CB11: 86503
A12: из них с доступом к ресурсам Интернета | B12: 09 | C12: 3 | CB12: 86504
A13: Мультимедийные проекторы | B13: 10 | C13: 18 | CB13: 86505
A14: Интерактивные доски | B14: 11 | C14: 2 | CB14: 86506
A15: Принтеры | B15: 12 | C15: 45 | CB15: 86507
A16: Сканеры | B16: 13 | C16: 4 | CB16: 86508
A17: Многофункциональные устройства (МФУ, выполняющие операции печати, сканирования, копирования) | B17: 14 | C17: 62 | CB17: 86509
A18: Ксероксы | B18: 15 | C18: 0 | CB18: 86510

Sheet Инструкция
C1: АНПОО "Сибирская региональная школа бизнеса (колледж)"
C2: Раздел 2.1. Количество персональных компьютеров и информационного оборудования (на конец отчетного года)
C4: Инструкция
D10: Важно!
E11: 1. Для загрузки в ЛК можно использовать только заполненный шаблон, скачанный из ЛК;
E13: 2. Вносить изменения в формат и структуру шаблона запрещено; Пожалуйста, не добавляйте в шаблон новые листы.
E15: 3. Добавление строк возможно ИСКЛЮЧИТЕЛЬНО при помощи кнопки. Допускается удаление только строк, добавленных с помощью кнопки.
E18: 4. Успешно может быть импортирован ТОЛЬКО тот документ, который был экспортирован. (например, для каждого филиала необходимо отдельно экспортировать шаблон, нельзя использовать шаблон головной организации)
E21: 5. Проверки (в случае наличия листа "Проверки"):
E22: 5.1. Проверки в Excel являются предварительными. Окончательные проверки производятся в веб-интерфейсе.
E23: 5.2. Поскольку добавляемые строки меняют нумерацию в формулах проверок, для просмотра проверки необходимо нажать на ячейку со словом "Неверно".
E26: 6. Нельзя импортировать шаблон, экспортированный из прошлогоднего сбора.
D28: Обозначения:
E30: Следующие ячейки ЗАПРЕЩЕНО редактировать:
H32: Заголовки
H34: Заголовки / нумерация / внешние данные
H36: Ячейка, содержащая формулу
E38: Проверки:
F40: Проверки | H40: Лист проверки содержит формулы, которые служат для контроля правильности данных
H42: Ячейка (на листе "Таблица") подсвечивается красным, если по ней не проходит проверка

Sheet hidden_sheet
CA1: eyJhbGciOiJSUzI1NiIsInR5cCI6IkpXVCJ9.eyJncmFudF9pZCI6MzA4LCJhcnRpY2xlX2lkIjo0OTcyLCJvcmdfaWQiOjEwNTYyMSwib3JnX3R5cGUiOm51bGwsInVpZCI6MTMxMzUsImlhdCI6MTc3NTYyNTAzNn0.qQRc9OYJhdOI6Bt7T7yxyUdFMahlbiHr6GeGXzw_URMznsf7TkP8RFzCdXb2aae6qaIG854jlu4ufStwmgW0EMDYlahcZ_f4ZW9yCzEppApsUWeMM_lBxXRZTV8k2nN_aO-MDVKCHWy4QjCVKwX11K_Lf3PMObf2vkJHMBs7pC-mUfSayzfpCwwRE_lf5fEb7b6LMMI0O8_KtqsTiMHaHMQ9yNi0F_wRjfqXm9tIBEoJIeMMmxOXFay8ic4FP2B6USgRAkueWA9dTv7u1aVNtAhBhvtTSppsFvw511RUDz37YqbCyEMhnJ67q_PtQU2FQYqCI30iXwYs4nb6qofrbhLCI7HmlFN5kFGPlj9tUDdx-05dC4REeWA8jKSxet9IKtjFEvUmcBD-NLx5XTP9EZ3P8ZVcW2i7doSdfqjAKogu2NHA2clcM-60xgEkJxLTmv3ad1ErqbqJ7iydlZQ0Kr1cLW-t4vpEH_dR7cIIL50zxnXSpL1r3yPX4g_gpChAy3RCcNCWUVejtH7oO733df19Jy_UznQeXI7rHvqHg5QqV9biW6c8ZNGCRvmGCW_-hSkxBDDcA1CC1VbeWoXPC5UpCF7BsGu7B4S1mc68jvHFfBTEqmwZTLof6uEJx9gB34o3XaOxVfe0Z3GEDe3QSrQ60PfI4NMswtkXS0_U6d4 | CB1: 0
CC2: B
CC3: E

Sheet Проверки
A1: Предварительные проверки
A2: Статус | B2: Формула | C2: Значение | D2: Условие | E2: Значение
A3: =IF(Таблица!D9>=Таблица!E9,"Верно","Неверно") -> Верно | B3: D9 >= E9 | C3: =Таблица!D9 -> 189 | D3: >= | E3: =Таблица!E9 -> 108
A4: =IF(Таблица!D10>=Таблица!E10,"Верно","Неверно") -> Верно | B4: D10 >= E10 | C4: =Таблица!D10 -> 21 | D4: >= | E4: =Таблица!E10 -> 21
A5: =IF(Таблица!C4>=Таблица!C5+Таблица!C6,"Верно","Неверно") -> Верно | B5: C4 >= C5+C6 | C5: =Таблица!C4 -> 282 | D5: >= | E5: =Таблица!C5+Таблица!C6 -> 56
A6: =IF(Таблица!D4>=Таблица!D5+Таблица!D6,"Верно","Неверно") -> Верно | B6: D4 >= D5+D6 | C6: =Таблица!D4 -> 189 | D6: >= | E6: =Таблица!D5+Таблица!D6 -> 56
A7: =IF(Таблица!E4>=Таблица!E5+Таблица!E6,"Верно","Неверно") -> Верно | B7: E4 >= E5+E6 | C7: =Таблица!E4 -> 108 | D7: >= | E7: =Таблица!E5+Таблица!E6 -> 33
A8: =IF(Таблица!C4>=Таблица!C7,"Верно","Неверно") -> Верно | B8: C4 >= C7 | C8: =Таблица!C4 -> 282 | D8: >= | E8: =Таблица!C7 -> 282
A9: =IF(Таблица!D4>=Таблица!D7,"Верно","Неверно") -> Верно | B9: D4 >= D7 | C9: =Таблица!D4 -> 189 | D9: >= | E9: =Таблица!D7 -> 189
A10: =IF(Таблица!E4>=Таблица!E7,"Верно","Неверно") -> Верно | B10: E4 >= E7 | C10: =Таблица!E4 -> 108 | D10: >= | E10: =Таблица!E7 -> 108
A11: =IF(Таблица!C4>=Таблица!C8,"Верно","Неверно") -> Верно | B11: C4 >= C8 | C11: =Таблица!C4 -> 282 | D11: >= | E11: =Таблица!C8 -> 282
A12: =IF(Таблица!D4>=Таблица!D8,"Верно","Неверно") -> Верно | B12: D4 >= D8 | C12: =Таблица!D4 -> 189 | D12: >= | E12: =Таблица!D8 -> 189
A13: =IF(Таблица!E4>=Таблица!E8,"Верно","Неверно") -> Верно | B13: E4 >= E8 | C13: =Таблица!E4 -> 108 | D13: >= | E13: =Таблица!E8 -> 108
A14: =IF(Таблица!C4>=Таблица!C9,"Верно","Неверно") -> Верно | B14: C4 >= C9 | C14: =Таблица!C4 -> 282 | D14: >= | E14: =Таблица!C9 -> 282
A15: =IF(Таблица!D4>=Таблица!D9,"Верно","Неверно") -> Верно | B15: D4 >= D9 | C15: =Таблица!D4 -> 189 | D15: >= | E15: =Таблица!D9 -> 189
A16: =IF(Таблица!E4>=Таблица!E9,"Верно","Неверно") -> Верно | B16: E4 >= E9 | C16: =Таблица!E4 -> 108 | D16: >= | E16: =Таблица!E9 -> 108
A17: =IF(Таблица!C4>=Таблица!C10,"Верно","Неверно") -> Верно | B17: C4 >= C10 | C17: =Таблица!C4 -> 282 | D17: >= | E17: =Таблица!C10 -> 21
A18: =IF(Таблица!D4>=Таблица!D10,"Верно","Неверно") -> Верно | B18: D4 >= D10 | C18: =Таблица!D4 -> 189 | D18: >= | E18: =Таблица!D10 -> 21
A19: =IF(Таблица!E4>=Таблица!E10,"Верно","Неверно") -> Верно | B19: E4 >= E10 | C19: =Таблица!E4 -> 108 | D19: >= | E19: =Таблица!E10 -> 21
A20: =IF(Таблица!C11>=Таблица!C12,"Верно","Неверно") -> Верно | B20: C11 >= C12 | C20: =Таблица!C11 -> 3 | D20: >= | E20: =Таблица!C12 -> 3
A21: =IF((Таблица!C5-Таблица!D5)+(Таблица!C6-Таблица!D6)<=Таблица!C4-Таблица!D4,"Верно","Неверно") -> Верно | B21: (C5-D5)+(C6-D6) <= C4-D4 | C21: =(Таблица!C5-Таблица!D5)+(Таблица!C6-Таблица!D6) -> 0 | D21: <= | E21: =Таблица!C4-Таблица!D4 -> 93
A22: =IF(Таблица!C7-Таблица!D7<=Таблица!C4-Таблица!D4,"Верно","Неверно") -> Верно | B22: C7-D7 <= C4-D4 | C22: =Таблица!C7-Таблица!D7 -> 93 | D22: <= | E22: =Таблица!C4-Таблица!D4 -> 93
A23: =IF(Таблица!C8-Таблица!D8<=Таблица!C4-Таблица!D4,"Верно","Неверно") -> Верно | B23: C8-D8 <= C4-D4 | C23: =Таблица!C8-Таблица!D8 -> 93 | D23: <= | E23: =Таблица!C4-Таблица!D4 -> 93
A24: =IF(Таблица!C9-Таблица!D9<=Таблица!C4-Таблица!D4,"Верно","Неверно") -> Верно | B24: C9-D9 <= C4-D4 | C24: =Таблица!C9-Таблица!D9 -> 93 | D24: <= | E24: =Таблица!C4-Таблица!D4 -> 93
A25: =IF(Таблица!C10-Таблица!D10<=Таблица!C4-Таблица!D4,"Верно","Неверно") -> Верно | B25: C10-D10 <= C4-D4 | C25: =Таблица!C10-Таблица!D10 -> 0 | D25: <= | E25: =Таблица!C4-Таблица!D4 -> 93
A26: =IF((Таблица!D5-Таблица!E5)+(Таблица!D6-Таблица!E6)<=Таблица!D4-Таблица!E4,"Верно","Неверно") -> Верно | B26: (D5-E5)+(D6-E6) <= D4-E4 | C26: =(Таблица!D5-Таблица!E5)+(Таблица!D6-Таблица!E6) -> 23 | D26: <= | E26: =Таблица!D4-Таблица!E4 -> 81
A27: =IF(Таблица!D7-Таблица!E7<=Таблица!D4-Таблица!E4,"Верно","Неверно") -> Верно | B27: D7-E7 <= D4-E4 | C27: =Таблица!D7-Таблица!E7 -> 81 | D27: <= | E27: =Таблица!D4-Таблица!E4 -> 81
A28: =IF(Таблица!D8>=Таблица!E8,"Верно","Неверно") -> Верно | B28: D8 >= E8 | C28: =Таблица!D8 -> 189 | D28: >= | E28: =Таблица!E8 -> 108
A29: =IF(Таблица!C4>=Таблица!D4,"Верно","Неверно") -> Верно | B29: C4 >= D4 | C29: =Таблица!C4 -> 282 | D29: >= | E29: =Таблица!D4 -> 189
A30: =IF(Таблица!C5>=Таблица!D5,"Верно","Неверно") -> Верно | B30: C5 >= D5 | C30: =Таблица!C5 -> 30 | D30: >= | E30: =Таблица!D5 -> 30
A31: =IF(Таблица!C6>=Таблица!D6,"Верно","Неверно") -> Верно | B31: C6 >= D6 | C31: =Таблица!C6 -> 26 | D31: >= | E31: =Таблица!D6 -> 26
A32: =IF(Таблица!C7>=Таблица!D7,"Верно","Неверно") -> Верно | B32: C7 >= D7 | C32: =Таблица!C7 -> 282 | D32: >= | E32: =Таблица!D7 -> 189
A33: =IF(Таблица!C8>=Таблица!D8,"Верно","Неверно") -> Верно | B33: C8 >= D8 | C33: =Таблица!C8 -> 282 | D33: >= | E33: =Таблица!D8 -> 189
A34: =IF(Таблица!C9>=Таблица!D9,"Верно","Неверно") -> Верно | B34: C9 >= D9 | C34: =Таблица!C9 -> 282 | D34: >= | E34: =Таблица!D9 -> 189
A35: =IF(Таблица!C10>=Таблица!D10,"Верно","Неверно") -> Верно | B35: C10 >= D10 | C35: =Таблица!C10 -> 21 | D35: >= | E35: =Таблица!D10 -> 21
A36: =IF(Таблица!D4>=Таблица!E4,"Верно","Неверно") -> Верно | B36: D4 >= E4 | C36: =Таблица!D4 -> 189 | D36: >= | E36: =Таблица!E4 -> 108
A37: =IF(Таблица!D5>=Таблица!E5,"Верно","Неверно") -> Верно | B37: D5 >= E5 | C37: =Таблица!D5 -> 30 | D37: >= | E37: =Таблица!E5 -> 18
A38: =IF(Таблица!D6>=Таблица!E6,"Верно","Неверно") -> Верно | B38: D6 >= E6 | C38: =Таблица!D6 -> 26 | D38: >= | E38: =Таблица!E6 -> 15
A39: =IF(Таблица!D7>=Таблица!E7,"Верно","Неверно") -> Верно | B39: D7 >= E7 | C39: =Таблица!D7 -> 189 | D39: >= | E39: =Таблица!E7 -> 108
A40: =IF(Таблица!D8-Таблица!E8<=Таблица!D4-Таблица!E4,"Верно","Неверно") -> Верно | B40: D8-E8 <= D4-E4 | C40: =Таблица!D8-Таблица!E8 -> 81 | D40: <= | E40: =Таблица!D4-Таблица!E4 -> 81
A41: =IF(Таблица!D9-Таблица!E9<=Таблица!D4-Таблица!E4,"Верно","Неверно") -> Верно | B41: D9-E9 <= D4-E4 | C41: =Таблица!D9-Таблица!E9 -> 81 | D41: <= | E41: =Таблица!D4-Таблица!E4 -> 81
A42: =IF(Таблица!D10-Таблица!E10<=Таблица!D4-Таблица!E4,"Верно","Неверно") -> Верно | B42: D10-E10 <= D4-E4 | C42: =Таблица!D10-Таблица!E10 -> 0 | D42: <= | E42: =Таблица!D4-Таблица!E4 -> 81
